BEGIN:VCALENDAR
VERSION:2.0
PRODID:-//eventon.com NONSGML v1.0//EN
CALSCALE:GREGORIAN
METHOD:PUBLISH
BEGIN:VEVENT
UID:69e751c7a5c78
DTSTAMP:20260421T103031Z
DTSTART:20260612T135300Z
DTEND:20260710T135300Z
LOCATION:
SUMMARY:Open Emotional Assertiveness
DESCRIPTION:Emotional Assertiveness course helps you communicate clearly an
 d calmly\,  manage your own emotions and those of others\,  and build more 
 effective and trusting relationships. Through practical exercises and conce
 pts from emotional intelligence\,  you will learn to handle conflicts witho
 ut aggression\,  say “no” without tension\,  and become more assertive 
 in both[..]\nhttps://exec-edu.eu/calendar/open-emotional-assertiveness/
URL:https://exec-edu.eu/calendar/open-emotional-assertiveness/
END:VEVENT
END:VCALENDAR