BEGIN:VCALENDAR
VERSION:2.0
PRODID:-//eventon.com NONSGML v1.0//EN
CALSCALE:GREGORIAN
METHOD:PUBLISH
BEGIN:VEVENT
UID:69e751c6ab8da
DTSTAMP:20260421T103030Z
DTSTART:20260520T134200Z
DTEND:20260520T134200Z
LOCATION:EXEC-EDU
SUMMARY:Safe workplace
DESCRIPTION:Policies\,  procedures and training to prevent harassment and d
 iscrimination Integrated program in 2 pillars: Regulation (alignment of the
  internal framework: regulations\,  procedures\,  ethics committee\,  whist
 leblowing) and 2-level Training (Top Management and the rest of the employe
 es). Duration – 1 session\nhttps://exec-edu.eu/calendar/21850/
URL:https://exec-edu.eu/calendar/21850/
END:VEVENT
END:VCALENDAR