BEGIN:VCALENDAR
VERSION:2.0
PRODID:-//eventon.com NONSGML v1.0//EN
CALSCALE:GREGORIAN
METHOD:PUBLISH
BEGIN:VEVENT
UID:69e751b0d8d7a
DTSTAMP:20260421T103008Z
DTSTART:20260526T150000Z
DTEND:20260528T173000Z
LOCATION:ZOOM
SUMMARY:AI Course for Managers
DESCRIPTION:Discover how to solve business problems using various AI tools:
  ChatGPT\,  GPTs\,  Claude &#8211; projects and skills\,  automations\,  ap
 plications\,  agents. Until recently\,  using AI in companies meant just co
 nversations with a chatbot. Now\,  increasingly\,  it means assistants trai
 ned on internal processes\,  automation integrated into workflows\,  and ag
 ents managing operations. AI[..]\nhttps://exec-edu.eu/calendar/ai-course-fo
 r-managers/
URL:https://exec-edu.eu/calendar/ai-course-for-managers/
END:VEVENT
END:VCALENDAR