BEGIN:VCALENDAR
VERSION:2.0
PRODID:-//eventon.com NONSGML v1.0//EN
CALSCALE:GREGORIAN
METHOD:PUBLISH
BEGIN:VEVENT
UID:69e5e7a465db6
DTSTAMP:20260420T084524Z
DTSTART:20240711T093000Z
DTEND:20240711T163000Z
LOCATION:EXEC-EDU
SUMMARY:LinkedIn masterclass
DESCRIPTION:This Masterclass will teach you how to create content on your L
 inkedIn account based on your desired audience. This way you position yours
 elf (better) as an expert and business leader. This is how you reach your p
 otential customers and partners more easily. You will learn lots of new ins
 ights and[..]\nhttps://exec-edu.eu/calendar/linkedin-masterclass/
URL:https://exec-edu.eu/calendar/linkedin-masterclass/
END:VEVENT
END:VCALENDAR