BEGIN:VCALENDAR
VERSION:2.0
PRODID:-//eventon.com NONSGML v1.0//EN
CALSCALE:GREGORIAN
METHOD:PUBLISH
BEGIN:VEVENT
UID:69e5e9b413d0d
DTSTAMP:20260420T085412Z
DTSTART:20251114T080000Z
DTEND:20251212T120000Z
LOCATION:
SUMMARY:Process Communication Model by Magda Tabac (delivered in English)
DESCRIPTION:Process Communication® is a personality theory and contemporar
 y communication model that teaches you how to make yourself heard and liked
 \,  not just heard by others. The course is delivered exclusively in Englis
 h. Duration: 5 sessions\,  Fridays\,  live\,  online between 10:00 and 14:0
 0\,  20 minutes break\nhttps://exec-edu.eu/calendar/process-communication-m
 odel-by-magda-tabac-delivered-in-english/
URL:https://exec-edu.eu/calendar/process-communication-model-by-magda-tabac-delivered-in-english/
END:VEVENT
END:VCALENDAR