BEGIN:VCALENDAR
VERSION:2.0
PRODID:-//eventon.com NONSGML v1.0//EN
CALSCALE:GREGORIAN
METHOD:PUBLISH
BEGIN:VEVENT
UID:69e751d8c8925
DTSTAMP:20260421T103048Z
DTSTART:20261020T140100Z
DTEND:20270119T180000Z
LOCATION:EXEC-EDU and ZOOM
SUMMARY:Human Resources Management
DESCRIPTION:It is a unique comprehensive human resources program that provi
 des you with not only information\,  but also practical expertise – along
  with a certificate of values ​​and access to the elite community. Dura
 tion: October 20\,  2026 – January 19\,  2027 &nbsp; &nbsp;\nhttps://exec
 -edu.eu/calendar/strategic-management-of-human-resources/
URL:https://exec-edu.eu/calendar/strategic-management-of-human-resources/
END:VEVENT
END:VCALENDAR