BEGIN:VCALENDAR
VERSION:2.0
PRODID:-//eventon.com NONSGML v1.0//EN
CALSCALE:GREGORIAN
METHOD:PUBLISH
BEGIN:VEVENT
UID:69e5e7a46e377
DTSTAMP:20260420T084524Z
DTSTART:20260210T073000Z
DTEND:20260212T143000Z
LOCATION:EXEC-EDU
SUMMARY:Process Communication Model by Andreea Rotaru
DESCRIPTION:Process Communication® it&#8217;s a theory of personality and 
 a contemporary model of communication that teaches you how to make yourself
  listened\,  not just heard\,  by others. Duration: 3 days\nhttps://exec-ed
 u.eu/calendar/process-communication-model-by-andreea-rotaru/
URL:https://exec-edu.eu/calendar/process-communication-model-by-andreea-rotaru/
END:VEVENT
END:VCALENDAR