BEGIN:VCALENDAR
VERSION:2.0
PRODID:-//eventon.com NONSGML v1.0//EN
CALSCALE:GREGORIAN
METHOD:PUBLISH
BEGIN:VEVENT
UID:69e5ec83daf20
DTSTAMP:20260420T090611Z
DTSTART:20260309T073000Z
DTEND:20260310T143000Z
LOCATION:EXEC-EDU
SUMMARY:Financial Analysis
DESCRIPTION:A course for finance professionals who want to deepen and conso
 lidate their knowledge in the field of financial analysis. Duration: 2 days
 \nhttps://exec-edu.eu/calendar/financial-analysis/
URL:https://exec-edu.eu/calendar/financial-analysis/
END:VEVENT
END:VCALENDAR