BEGIN:VCALENDAR
VERSION:2.0
PRODID:-//eventon.com NONSGML v1.0//EN
CALSCALE:GREGORIAN
METHOD:PUBLISH
BEGIN:VEVENT
UID:69e751c838b25
DTSTAMP:20260421T103032Z
DTSTART:20260423
DTEND:20260424
LOCATION:EXEC-EDU and ZOOM
SUMMARY:Management 360°
DESCRIPTION:Don&#8217;t have time to develop your business skills? Are you 
 one of the busy and dynamic leaders who want to quickly learn key business 
 processes to make better decisions and accelerate their success? Then the M
 anagement 360 program is for you. Duration: 4 months\,  to which is added a
  month[..]\nhttps://exec-edu.eu/calendar/management-360/
URL:https://exec-edu.eu/calendar/management-360/
END:VEVENT
END:VCALENDAR